BEGIN:VCALENDAR
VERSION:2.0
PRODID:-//QUARKS - ECPv6.15.17.1//NONSGML v1.0//EN
CALSCALE:GREGORIAN
METHOD:PUBLISH
X-WR-CALNAME:QUARKS
X-ORIGINAL-URL:https://allaboutquarks.de/de
X-WR-CALDESC:Veranstaltungen für QUARKS
REFRESH-INTERVAL;VALUE=DURATION:PT1H
X-Robots-Tag:noindex
X-PUBLISHED-TTL:PT1H
BEGIN:VTIMEZONE
TZID:UTC
BEGIN:STANDARD
TZOFFSETFROM:+0000
TZOFFSETTO:+0000
TZNAME:UTC
DTSTART:20240101T000000
END:STANDARD
END:VTIMEZONE
BEGIN:VEVENT
DTSTART;TZID=UTC:20250402T080000
DTEND;TZID=UTC:20250402T235900
DTSTAMP:20260421T032134
CREATED:20250211T161046Z
LAST-MODIFIED:20250311T090026Z
UID:1747-1743580800-1743638340@allaboutquarks.de
SUMMARY:SIT – Sächsischer Schulinformatiktag
DESCRIPTION:The SIT is a network meeting of computer science teachers at which workshops lasting 90 minutes are also offered. QUARKS will present several school modules that can be easily integrated into the curriculum for dealing with quantum topics.
URL:https://allaboutquarks.de/de/event/sachsischer-schulinformatiktag/
LOCATION:TU Dresden\, Dresden\, 01062\, Germany
CATEGORIES:Education
END:VEVENT
BEGIN:VEVENT
DTSTART;TZID=UTC:20250403T130000
DTEND;TZID=UTC:20250403T150000
DTSTAMP:20260421T032134
CREATED:20250306T151146Z
LAST-MODIFIED:20250313T152043Z
UID:2582-1743685200-1743692400@allaboutquarks.de
SUMMARY:Girls Day
DESCRIPTION:Are you passionate about mathematics\, computer science\, natural sciences or technology? Would you like to find out what it’s like to study and do research at a university? \nThen don’t miss ‘A Day at the University’ at TU Dresden! \nDuring this special event\, QUARKS will be there to guide you through an immersive experience in the world of STEM and quantum technologies. After a brief introduction to the university and its degree programmes\, you will have the opportunity to explore one of our most innovative research areas. In small groups\, you will experience\, actively participate in scientific activities and gain knowledge about cutting-edge quantum research with the QUARKS team.
URL:https://allaboutquarks.de/de/event/girls-day/
LOCATION:TU Dresden\, Dresden\, 01062\, Germany
CATEGORIES:Education
END:VEVENT
BEGIN:VEVENT
DTSTART;TZID=UTC:20250414T130000
DTEND;TZID=UTC:20250414T180000
DTSTAMP:20260421T032134
CREATED:20250319T135207Z
LAST-MODIFIED:20250408T132912Z
UID:3184-1744635600-1744653600@allaboutquarks.de
SUMMARY:QUARKS Open Lab Day
DESCRIPTION:“Registrations for the event are now officially closed.” \nDiscover the future of technology! \nStudents and employees of TU Dresden are cordially invited to immerse themselves in the fascinating world of quantum communication and quantum computing. Firstly\, you will gain a vivid insight into the basics of quantum communication. Afterwards\, you can visit the quantum computing laboratory and get an impression of the latest technology. Experience how the future of science is already tangible today! \n14:15 to 15:15 (15 places)\n15:30 to 16:30 (15 places)\n16:45 to 17:45 (15 places) \nLanguage of the event: German \nMandatory registration on the website
URL:https://allaboutquarks.de/de/event/quarks-open-lab-day/
LOCATION:TU Dresden\, Dresden\, 01062\, Germany
CATEGORIES:Education
END:VEVENT
BEGIN:VEVENT
DTSTART;TZID=UTC:20250514T090000
DTEND;TZID=UTC:20250515T160000
DTSTAMP:20260421T032134
CREATED:20250307T094046Z
LAST-MODIFIED:20250311T091804Z
UID:2634-1747213200-1747324800@allaboutquarks.de
SUMMARY:IEEE 6G Summit Dresden 2025
DESCRIPTION:On 14 and 15 May 2025\, join us at Messe Dresden for the IEEE 6G Summit Dresden\, a key event for the future of mobile communications. Organised by IEEE\, 5G Lab Germany and TU Dresden\, this 10th edition brings together global industry leaders\, academic pioneers and technology innovators for two days of inspiring talks\, cutting-edge exhibits and forward-looking discussions. \nQUARKS will be present! We will present our latest scientific advances in quantum technologies through our demonstrators.
URL:https://allaboutquarks.de/de/event/ieee-6g-summit-dresden-2025/
LOCATION:MESSE DRESDEN\, Messering 6\, Dresden\, 01067
CATEGORIES:Industry,Research
END:VEVENT
BEGIN:VEVENT
DTSTART;VALUE=DATE:20250524
DTEND;VALUE=DATE:20250525
DTSTAMP:20260421T032134
CREATED:20250307T103142Z
LAST-MODIFIED:20250313T152107Z
UID:2639-1748044800-1748131199@allaboutquarks.de
SUMMARY:UNI-DAY – TU Dresden’s open house day for prospective students
DESCRIPTION:Join us on May 24\, 2025\, at TU Dresden’s Uni Day\, where you’ll explore diverse degree programs\, study requirements\, and application processes. Discover insights on housing\, financing\, and student life in Dresden. QUARKS will be there\, ready to share our expertise and opportunities in quantum technologies.
URL:https://allaboutquarks.de/de/event/uni-day-tu-dresdens-open-house-day-for-prospective-students/
LOCATION:TU Dresden\, Dresden\, 01062\, Germany
CATEGORIES:Education
END:VEVENT
BEGIN:VEVENT
DTSTART;VALUE=DATE:20250620
DTEND;VALUE=DATE:20250621
DTSTAMP:20260421T032134
CREATED:20250506T140534Z
LAST-MODIFIED:20250603T125805Z
UID:3670-1750377600-1750463999@allaboutquarks.de
SUMMARY:Dresden Science Night
DESCRIPTION:QUARKS participates in the Dresden Science Night\, an event where universities\, research institutes and companies open their doors to the public to bring science to life. \nDuring the evening\, it will be possible to discover the world of research through interactive experiments\, lectures and innovative demonstrations. A unique opportunity to explore the combination of science\, technology\, art and culture\, immersing oneself in a universe of knowledge and curiosity.
URL:https://allaboutquarks.de/de/event/dresden-science-night/
LOCATION:TU Dresden\, Dresden\, 01062\, Germany
CATEGORIES:Education,Society
END:VEVENT
BEGIN:VEVENT
DTSTART;VALUE=DATE:20250624
DTEND;VALUE=DATE:20250625
DTSTAMP:20260421T032134
CREATED:20250603T130301Z
LAST-MODIFIED:20250603T131252Z
UID:3741-1750723200-1750809599@allaboutquarks.de
SUMMARY:Genialsozial 2025
DESCRIPTION:The ‘Genialsozial’ day encourages young people to actively participate in social issues and gives them the opportunity to get involved locally and globally. The proceeds from their daily work are donated to social projects in Dresden\, Saxony and around the world.
URL:https://allaboutquarks.de/de/event/genialsozial-2025/
LOCATION:TU Dresden\, Dresden\, 01062\, Germany
CATEGORIES:Education
END:VEVENT
BEGIN:VEVENT
DTSTART;VALUE=DATE:20250701
DTEND;VALUE=DATE:20250704
DTSTAMP:20260421T032134
CREATED:20250620T101610Z
LAST-MODIFIED:20250620T111450Z
UID:3952-1751328000-1751587199@allaboutquarks.de
SUMMARY:Berlin 6G Conference 2025
DESCRIPTION:QUARKS will be present at the Berlin 6G Conference 2025 to showcase its research demos in quantum communications. At a crucial time for the definition of 6G standards\, the conference brings together experts from around the world to address the technological and strategic challenges of future networks.
URL:https://allaboutquarks.de/de/event/berlin-6g-conference-2025/
LOCATION:bcc Berlin Congress Center GmbH\, Alexanderstr. 11\, Berlin\, 10178\, Germany
CATEGORIES:Industry,Research
END:VEVENT
BEGIN:VEVENT
DTSTART;TZID=UTC:20250904T170000
DTEND;TZID=UTC:20250904T190000
DTSTAMP:20260421T032134
CREATED:20250903T123308Z
LAST-MODIFIED:20250903T125308Z
UID:6689-1757005200-1757012400@allaboutquarks.de
SUMMARY:MINT TANK - Dr. Hans Riegel
DESCRIPTION:QUARKS welcomes the winners of the Dr. Hans Riegel Awards to celebrate scientific excellence among young people and promote the sustainable development of young talent in the fields of science\, mathematics and technology.
URL:https://allaboutquarks.de/de/event/mint-tank-dr-hans-riegel/
LOCATION:TU Dresden\, Dresden\, 01062\, Germany
CATEGORIES:Education
END:VEVENT
BEGIN:VEVENT
DTSTART;TZID=UTC:20250911T150000
DTEND;TZID=UTC:20250911T190000
DTSTAMP:20260421T032134
CREATED:20250903T092249Z
LAST-MODIFIED:20250903T095006Z
UID:6677-1757602800-1757617200@allaboutquarks.de
SUMMARY:Family festival 2025
DESCRIPTION:QUARKS will be present at the Family Festival organised by TU Dresden. \nThe event is open to all generations and all types of families: children\, grandparents\, friends\, couples and chosen families. It will be an afternoon full of activities\, meetings and moments of sharing.
URL:https://allaboutquarks.de/de/event/family-festival-2025/
LOCATION:TU Dresden\, Dresden\, 01062\, Germany
CATEGORIES:Society
END:VEVENT
BEGIN:VEVENT
DTSTART;TZID=UTC:20250923T143000
DTEND;TZID=UTC:20250923T160000
DTSTAMP:20260421T032134
CREATED:20250903T124040Z
LAST-MODIFIED:20250903T125328Z
UID:6691-1758637800-1758643200@allaboutquarks.de
SUMMARY:Gesellschaft für Informatik
DESCRIPTION:We are delighted to welcome representatives from the Gesellschaft für Informatik for a day of exchange and discussion on innovations in the field of information technology and digital technologies.
URL:https://allaboutquarks.de/de/event/gesellschaft-fur-informatik/
LOCATION:TU Dresden\, Dresden\, 01062\, Germany
CATEGORIES:Industry
END:VEVENT
BEGIN:VEVENT
DTSTART;VALUE=DATE:20250927
DTEND;VALUE=DATE:20250928
DTSTAMP:20260421T032134
CREATED:20250903T124631Z
LAST-MODIFIED:20250903T125338Z
UID:6693-1758931200-1759017599@allaboutquarks.de
SUMMARY:Science on Stage Festival 2025
DESCRIPTION:We are thrilled to announce that QUARKS will be taking part in the Science on Stage Festival 2025\, the European event dedicated to innovation in science education. During the festival\, we will share our experiences\, discover new teaching approaches and exchange ideas with teachers and researchers from across Europe to promote a passion for science among young people.
URL:https://allaboutquarks.de/de/event/science-on-stage-festival-2025/
LOCATION:Radebeul\, Germany
CATEGORIES:Society
END:VEVENT
BEGIN:VEVENT
DTSTART;VALUE=DATE:20251008
DTEND;VALUE=DATE:20251009
DTSTAMP:20260421T032134
CREATED:20250903T125253Z
LAST-MODIFIED:20250903T125604Z
UID:6696-1759881600-1759967999@allaboutquarks.de
SUMMARY:Fall camp for schoolgirls
DESCRIPTION:TU Dresden’s Herbst-Camp 2025\, a unique opportunity for high school girls to explore the world of science\, technology and engineering. Participants will have the opportunity to experience first-hand the scientific challenges and solutions of our time in a stimulating and collaborative environment.
URL:https://allaboutquarks.de/de/event/fall-camp-for-schoolgirls/
LOCATION:TU Dresden\, Dresden\, 01062\, Germany
CATEGORIES:Education
END:VEVENT
BEGIN:VEVENT
DTSTART;TZID=UTC:20251008T150000
DTEND;TZID=UTC:20251008T180000
DTSTAMP:20260421T032134
CREATED:20250903T131054Z
LAST-MODIFIED:20250918T125924Z
UID:6700-1759935600-1759946400@allaboutquarks.de
SUMMARY:Orientation Week for New Students at TUD 2025
DESCRIPTION:Erstsemester-Einführungswoche (ESE) at TU Dresden\, dedicated to new students of electrical engineering and computer science. During orientation week\, QUARKS will present its quantum computing lab as part of the lab tour and offer an interactive workshop.Students will have the opportunity to explore cutting-edge technologies\, spark their scientific curiosity\, and discover the future of engineering and technological research.
URL:https://allaboutquarks.de/de/event/orientation-week-for-new-students-at-tud-2025/
LOCATION:TU Dresden\, Dresden\, 01062\, Germany
CATEGORIES:Society
END:VEVENT
BEGIN:VEVENT
DTSTART;TZID=UTC:20251016T180000
DTEND;TZID=UTC:20251016T200000
DTSTAMP:20260421T032134
CREATED:20250903T092409Z
LAST-MODIFIED:20250930T102421Z
UID:6679-1760637600-1760644800@allaboutquarks.de
SUMMARY:QUANTUM GAME 2025
DESCRIPTION:QUARKS invites you to a special event on 16 October 2025 at 6 p.m. at BARNEBY – Die Spielebar! \nAdmission is free. We will talk about quantum communication and quantum computers in a simple and entertaining way\, and we will play games designed to help us better understand the quantum world. \nA unique opportunity to discover the science of quarks and quantum physics… through play!
URL:https://allaboutquarks.de/de/event/quantum-game-2025-2/
LOCATION:BARNEBY – Die Spielebar\, Görlitzer Str. 11\, Dresden\, 01099\, Germany
CATEGORIES:Society
END:VEVENT
BEGIN:VEVENT
DTSTART;VALUE=DATE:20251027
DTEND;VALUE=DATE:20251030
DTSTAMP:20260421T032134
CREATED:20250620T102555Z
LAST-MODIFIED:20250725T140931Z
UID:3955-1761523200-1761782399@allaboutquarks.de
SUMMARY:European Wireless 2025
DESCRIPTION:From 27 to 29 October\, QUARKS will participate in the European Wireless 2025 Conference\, one of Europe’s leading events in the field of wireless communications. An opportunity to share research results and discuss emerging technologies that will shape the networks of the future.
URL:https://allaboutquarks.de/de/event/european-wireless-2025/
LOCATION:EURECOM\, 450 Route des Chappes\, CS 50193\, Biot\, 06904\, France
CATEGORIES:Research
END:VEVENT
BEGIN:VEVENT
DTSTART;VALUE=DATE:20251028
DTEND;VALUE=DATE:20251030
DTSTAMP:20260421T032134
CREATED:20250620T103943Z
LAST-MODIFIED:20251029T125355Z
UID:3958-1761609600-1761782399@allaboutquarks.de
SUMMARY:Thinknet 6G Summit 2025 in Nuremberg
DESCRIPTION:On October 28 and 29\, 2025\, QUARKS will be represented at the Thinknet 6G Summit in Nuremberg – one of the key events on the future of connectivity.\nQUARKS will use the platform to provide its own impetus\, present innovative approaches\, and actively shape the dialogue on quantum sciences and their role in digital transformation.
URL:https://allaboutquarks.de/de/event/thinknet-6g-summit-2025-in-nuremberg/
LOCATION:myEvent World\, Klingenhofstraße 40\, Nuremberg\, 90411\, Germany
CATEGORIES:Industry
END:VEVENT
BEGIN:VEVENT
DTSTART;VALUE=DATE:20251104
DTEND;VALUE=DATE:20251105
DTSTAMP:20260421T032134
CREATED:20250903T135328Z
LAST-MODIFIED:20250903T135328Z
UID:6704-1762214400-1762300799@allaboutquarks.de
SUMMARY:Robotics Symposium 2025
DESCRIPTION:At the Robotics Symposium 2025\, QUARKS will have a dedicated stand where visitors can explore cutting-edge quantum technologies\, discover practical applications and interact directly with industry experts.
URL:https://allaboutquarks.de/de/event/robotics-symposium-2025/
LOCATION:Dresden
CATEGORIES:Society
END:VEVENT
BEGIN:VEVENT
DTSTART;VALUE=DATE:20251105
DTEND;VALUE=DATE:20251106
DTSTAMP:20260421T032134
CREATED:20250620T105359Z
LAST-MODIFIED:20251029T125512Z
UID:3961-1762300800-1762387199@allaboutquarks.de
SUMMARY:Hub:Disrupt 2025
DESCRIPTION:Join QUARKS at Hub:Disrupt 2025 and dive into the intriguing world of quantum randomness! Our workshop will kick off with a captivating introduction to the differences between classical and quantum randomness\, showing why high-quality randomness matters in everyday life and cutting-edge technologies. Through interactive experiments and real-world examples\, you’ll experience firsthand how quantum randomness shapes our world. Don’t miss our booth\, where you can explore QUARKS’ projects\, try hands-on activities\, and meet our team in person—your gateway to the future of quantum innovation!
URL:https://allaboutquarks.de/de/event/hubdisrupt-2025/
LOCATION:Gläserne Manufaktur\, Lennéstraße 1\, Dresden\, 01069\, Germany
CATEGORIES:Industry
END:VEVENT
BEGIN:VEVENT
DTSTART;VALUE=DATE:20251121
DTEND;VALUE=DATE:20251122
DTSTAMP:20260421T032134
CREATED:20250725T140511Z
LAST-MODIFIED:20251021T091704Z
UID:4685-1763683200-1763769599@allaboutquarks.de
SUMMARY:TINCON 2025
DESCRIPTION:QUARKS is excited to be part of TINCON 2025 – inspiring young minds with the wonders of quantum science and future technologies.
URL:https://allaboutquarks.de/de/event/tincon-2025/
LOCATION:Dresden
CATEGORIES:Society
END:VEVENT
BEGIN:VEVENT
DTSTART;TZID=UTC:20251128T090000
DTEND;TZID=UTC:20251128T173000
DTSTAMP:20260421T032134
CREATED:20251023T112521Z
LAST-MODIFIED:20251023T114309Z
UID:6944-1764320400-1764351000@allaboutquarks.de
SUMMARY:QIA's Pan-European Quantum Internet Hackathon 2025
DESCRIPTION:Are you ready to hack into the future? Join the QIA Hackathon 2025! \nWe are calling all interested quantum enthusiasts to join our pan-European quantum internet hackathon occurring simultaneously across multiple nodes on 28 November 2025! \nChoose from three QIA-operated nodes in Delft (Netherlands)\, Dresden (Germany) and Paris (France)\, and Poznań Supercomputing and Networking Center (PCSS)’s node in Poznań (Poland)\, or contact us if you wish to host an additional node.
URL:https://allaboutquarks.de/de/event/qias-pan-european-quantum-internet-hackathon-2025/
LOCATION:TU Dresden\, Dresden\, 01062\, Germany
CATEGORIES:Research
END:VEVENT
BEGIN:VEVENT
DTSTART;TZID=UTC:20251210T180000
DTEND;TZID=UTC:20251210T200000
DTSTAMP:20260421T032134
CREATED:20250903T094816Z
LAST-MODIFIED:20251210T144249Z
UID:6684-1765389600-1765396800@allaboutquarks.de
SUMMARY:QUANTUM GAME
DESCRIPTION:Quarks invites you to a special event on 10 December 2025 at 5 p.m. at Nerdpol! \nAdmission is free. We will talk about quantum communication and quantum computers in a simple and entertaining way\, and we will play games designed to help us better understand the quantum world. \nA unique opportunity to discover the science of quarks and quantum physics… through play!
URL:https://allaboutquarks.de/de/event/quantum-game-2025/
LOCATION:Nerdpol Café\, Bautzner Str. 53\, Dresden\, 01099\, Germany
CATEGORIES:Society
END:VEVENT
BEGIN:VEVENT
DTSTART;VALUE=DATE:20260115
DTEND;VALUE=DATE:20260116
DTSTAMP:20260421T032134
CREATED:20251210T131946Z
LAST-MODIFIED:20251210T144231Z
UID:7214-1768435200-1768521599@allaboutquarks.de
SUMMARY:UNILIVE
DESCRIPTION:What happens after the Abitur? Which degree program is right for me? \nUNILIVE – University Information Day will take place on January 15\, 2026. \nHigh school graduates\, pupils and teachers are cordially invited to get to know student life at TU Dresden.
URL:https://allaboutquarks.de/de/event/uni-live-2026/
LOCATION:TU Dresden\, Dresden\, 01062\, Germany
CATEGORIES:Education
END:VEVENT
BEGIN:VEVENT
DTSTART;VALUE=DATE:20260316
DTEND;VALUE=DATE:20260318
DTSTAMP:20260421T032134
CREATED:20260203T132850Z
LAST-MODIFIED:20260203T132850Z
UID:7396-1773619200-1773791999@allaboutquarks.de
SUMMARY:MINT EC-Future Forum
DESCRIPTION:At the MINT-EC Future Forum 2026\, we highlight the skills students already have that are highly valued by future employers. Join us to exchange ideas\, gain new perspectives\, and learn from one another. The forum connects you with fellow students\, teachers\, and experts from universities and industry\, creating a space for inspiration\, dialogue\, and future opportunities.
URL:https://allaboutquarks.de/de/event/mint-ec-future-forum/
LOCATION:TU Dresden\, Dresden\, 01062\, Germany
CATEGORIES:Education
END:VEVENT
BEGIN:VEVENT
DTSTART;VALUE=DATE:20260423
DTEND;VALUE=DATE:20260424
DTSTAMP:20260421T032134
CREATED:20260203T123649Z
LAST-MODIFIED:20260204T083402Z
UID:7388-1776902400-1776988799@allaboutquarks.de
SUMMARY:Girls' Day
DESCRIPTION:Female students are given the opportunity to meet role models and get a firsthand impression of the institution. Join us at TU Dresden’s Girls’ Day to explore the Quarks project and dive into science\, technology\, and innovation designed for girls. \nRegistration link and the full program below. 
URL:https://allaboutquarks.de/de/event/girls-day-2026/
LOCATION:TU Dresden\, Dresden\, 01062\, Germany
CATEGORIES:Education
ATTACH;FMTTYPE=image/jpeg:https://allaboutquarks.de/wp-content/uploads/2026/02/Girls-Day.jpg
END:VEVENT
BEGIN:VEVENT
DTSTART;VALUE=DATE:20260429
DTEND;VALUE=DATE:20260430
DTSTAMP:20260421T032134
CREATED:20260203T125858Z
LAST-MODIFIED:20260203T132931Z
UID:7392-1777420800-1777507199@allaboutquarks.de
SUMMARY:Kino im Kasten
DESCRIPTION:Kino im Kasten presents the science fiction thriller “Coherence”. After the screening\, join us for a short discussion examining which aspects of the film are grounded in real quantum physics and where science fiction begins. The Quarks project invites you to explore the fascinating intersection of cinema and science. \n 
URL:https://allaboutquarks.de/de/event/kino-im-kasten-quarks/
LOCATION:TU Dresden\, Dresden\, 01062\, Germany
CATEGORIES:Society
END:VEVENT
BEGIN:VEVENT
DTSTART;VALUE=DATE:20260518
DTEND;VALUE=DATE:20260523
DTSTAMP:20260421T032134
CREATED:20260203T142153Z
LAST-MODIFIED:20260203T142153Z
UID:7398-1779062400-1779494399@allaboutquarks.de
SUMMARY:Dresden Communications Festival
DESCRIPTION:QUARKS will be part of the Dresden Communication Festival this May\, showcasing the fascinating world of quantum science. Explore cutting-edge research\, join interactive discussions\, and discover how quantum physics shapes our understanding of the world. Connect with experts\, get inspired\, and experience the quantum universe! \n 
URL:https://allaboutquarks.de/de/event/dresden-communications-festival/
LOCATION:MESSE DRESDEN\, Messering 6\, Dresden\, 01067
CATEGORIES:Society
END:VEVENT
BEGIN:VEVENT
DTSTART;VALUE=DATE:20260606
DTEND;VALUE=DATE:20260607
DTSTAMP:20260421T032134
CREATED:20251210T133310Z
LAST-MODIFIED:20251210T144126Z
UID:7218-1780704000-1780790399@allaboutquarks.de
SUMMARY:UNIDAY
DESCRIPTION:On June 6\, 2026\, during UNIDAY\, we will offer numerous opportunities for information on the TUD campus. You can learn more about our quantum communications.
URL:https://allaboutquarks.de/de/event/uni-tag-2026/
LOCATION:TU Dresden\, Dresden\, 01062\, Germany
CATEGORIES:Education
END:VEVENT
BEGIN:VEVENT
DTSTART;VALUE=DATE:20260615
DTEND;VALUE=DATE:20260618
DTSTAMP:20260421T032134
CREATED:20250603T123907Z
LAST-MODIFIED:20260410T065700Z
UID:3734-1781481600-1781740799@allaboutquarks.de
SUMMARY:Silicon Saxony Day
DESCRIPTION:Join QUARKS at the Silicon Saxony Day\, one of Europe’s premier international high-tech networking events. This platform offers vital cross-industry insights into hardware\, software\, and connectivity\, fostering open exchange between developers\, producers\, and users. \nWe are excited to announce that our expert\, Bassem\, will deliver a keynote titled “Entering 4th Dimension with Quantum Tech.” His presentation will explore how quantum technologies and their real-world applications are pushing the boundaries of the ICT sector. This session is a must-attend for anyone looking to bridge the gap between cutting-edge research and industrial innovation. We look forward to seeing you in Dresden as we explore the future of technology together!
URL:https://allaboutquarks.de/de/event/silicon-saxony-day/
LOCATION:Airport Dresden
CATEGORIES:Industry
END:VEVENT
BEGIN:VEVENT
DTSTART;VALUE=DATE:20260626
DTEND;VALUE=DATE:20260627
DTSTAMP:20260421T032134
CREATED:20251210T133643Z
LAST-MODIFIED:20251210T144048Z
UID:7220-1782432000-1782518399@allaboutquarks.de
SUMMARY:Science Night Dresden
DESCRIPTION:During Dresden’s Long Night of Science\, Dresden’s universities\, non-university research institutions\, and science-related companies open their doors\, laboratories\, lecture halls\, and archives to the public. Visitors can experience science and technology\, research and innovation\, art\, and culture up close through a variety of lectures\, experiments\, guided tours\, exhibitions\, and films.
URL:https://allaboutquarks.de/de/event/science-night-dresden-2026/
LOCATION:TU Dresden\, Dresden\, 01062\, Germany
CATEGORIES:Society
END:VEVENT
END:VCALENDAR