BEGIN:VCALENDAR
VERSION:2.0
PRODID:-//QUARKS - ECPv6.15.17.1//NONSGML v1.0//EN
CALSCALE:GREGORIAN
METHOD:PUBLISH
X-WR-CALNAME:QUARKS
X-ORIGINAL-URL:https://allaboutquarks.de
X-WR-CALDESC:Events for QUARKS
REFRESH-INTERVAL;VALUE=DURATION:PT1H
X-Robots-Tag:noindex
X-PUBLISHED-TTL:PT1H
BEGIN:VTIMEZONE
TZID:UTC
BEGIN:STANDARD
TZOFFSETFROM:+0000
TZOFFSETTO:+0000
TZNAME:UTC
DTSTART:20240101T000000
END:STANDARD
END:VTIMEZONE
BEGIN:VEVENT
DTSTART;TZID=UTC:20250911T150000
DTEND;TZID=UTC:20250911T190000
DTSTAMP:20260420T053027
CREATED:20250903T092249Z
LAST-MODIFIED:20250903T095006Z
UID:6677-1757602800-1757617200@allaboutquarks.de
SUMMARY:Family festival 2025
DESCRIPTION:QUARKS will be present at the Family Festival organised by TU Dresden. \nThe event is open to all generations and all types of families: children\, grandparents\, friends\, couples and chosen families. It will be an afternoon full of activities\, meetings and moments of sharing.
URL:https://allaboutquarks.de/event/family-festival-2025/
LOCATION:TU Dresden\, Dresden\, 01062\, Germany
CATEGORIES:Society
END:VEVENT
BEGIN:VEVENT
DTSTART;VALUE=DATE:20250927
DTEND;VALUE=DATE:20250928
DTSTAMP:20260420T053027
CREATED:20250903T124631Z
LAST-MODIFIED:20250903T125338Z
UID:6693-1758931200-1759017599@allaboutquarks.de
SUMMARY:Science on Stage Festival 2025
DESCRIPTION:We are thrilled to announce that QUARKS will be taking part in the Science on Stage Festival 2025\, the European event dedicated to innovation in science education. During the festival\, we will share our experiences\, discover new teaching approaches and exchange ideas with teachers and researchers from across Europe to promote a passion for science among young people.
URL:https://allaboutquarks.de/event/science-on-stage-festival-2025/
LOCATION:Radebeul\, Germany
CATEGORIES:Society
END:VEVENT
END:VCALENDAR