BEGIN:VCALENDAR
VERSION:2.0
PRODID:-//QUARKS - ECPv6.15.17.1//NONSGML v1.0//EN
CALSCALE:GREGORIAN
METHOD:PUBLISH
X-WR-CALNAME:QUARKS
X-ORIGINAL-URL:https://allaboutquarks.de
X-WR-CALDESC:Events for QUARKS
REFRESH-INTERVAL;VALUE=DURATION:PT1H
X-Robots-Tag:noindex
X-PUBLISHED-TTL:PT1H
BEGIN:VTIMEZONE
TZID:UTC
BEGIN:STANDARD
TZOFFSETFROM:+0000
TZOFFSETTO:+0000
TZNAME:UTC
DTSTART:20240101T000000
END:STANDARD
END:VTIMEZONE
BEGIN:VEVENT
DTSTART;TZID=UTC:20251008T150000
DTEND;TZID=UTC:20251008T180000
DTSTAMP:20260420T033822
CREATED:20250903T131054Z
LAST-MODIFIED:20250918T125924Z
UID:6700-1759935600-1759946400@allaboutquarks.de
SUMMARY:Orientation Week for New Students at TUD 2025
DESCRIPTION:Erstsemester-Einführungswoche (ESE) at TU Dresden\, dedicated to new students of electrical engineering and computer science. During orientation week\, QUARKS will present its quantum computing lab as part of the lab tour and offer an interactive workshop.Students will have the opportunity to explore cutting-edge technologies\, spark their scientific curiosity\, and discover the future of engineering and technological research.
URL:https://allaboutquarks.de/event/orientation-week-for-new-students-at-tud-2025/
LOCATION:TU Dresden\, Dresden\, 01062\, Germany
CATEGORIES:Society
END:VEVENT
BEGIN:VEVENT
DTSTART;TZID=UTC:20251016T180000
DTEND;TZID=UTC:20251016T200000
DTSTAMP:20260420T033822
CREATED:20250903T092409Z
LAST-MODIFIED:20250930T102421Z
UID:6679-1760637600-1760644800@allaboutquarks.de
SUMMARY:QUANTUM GAME 2025
DESCRIPTION:QUARKS invites you to a special event on 16 October 2025 at 6 p.m. at BARNEBY – Die Spielebar! \nAdmission is free. We will talk about quantum communication and quantum computers in a simple and entertaining way\, and we will play games designed to help us better understand the quantum world. \nA unique opportunity to discover the science of quarks and quantum physics… through play!
URL:https://allaboutquarks.de/event/quantum-game-2025-2/
LOCATION:BARNEBY – Die Spielebar\, Görlitzer Str. 11\, Dresden\, 01099\, Germany
CATEGORIES:Society
END:VEVENT
END:VCALENDAR