BEGIN:VCALENDAR
VERSION:2.0
PRODID:-//QUARKS - ECPv6.15.17.1//NONSGML v1.0//EN
CALSCALE:GREGORIAN
METHOD:PUBLISH
X-ORIGINAL-URL:https://allaboutquarks.de
X-WR-CALDESC:Events for QUARKS
REFRESH-INTERVAL;VALUE=DURATION:PT1H
X-Robots-Tag:noindex
X-PUBLISHED-TTL:PT1H
BEGIN:VTIMEZONE
TZID:UTC
BEGIN:STANDARD
TZOFFSETFROM:+0000
TZOFFSETTO:+0000
TZNAME:UTC
DTSTART:20240101T000000
END:STANDARD
END:VTIMEZONE
BEGIN:VEVENT
DTSTART;VALUE=DATE:20251104
DTEND;VALUE=DATE:20251105
DTSTAMP:20260420T052241
CREATED:20250903T135328Z
LAST-MODIFIED:20250903T135328Z
UID:6704-1762214400-1762300799@allaboutquarks.de
SUMMARY:Robotics Symposium 2025
DESCRIPTION:At the Robotics Symposium 2025\, QUARKS will have a dedicated stand where visitors can explore cutting-edge quantum technologies\, discover practical applications and interact directly with industry experts.
URL:https://allaboutquarks.de/event/robotics-symposium-2025/
LOCATION:Dresden
CATEGORIES:Society
END:VEVENT
END:VCALENDAR