BEGIN:VCALENDAR
VERSION:2.0
PRODID:-//QUARKS - ECPv6.15.17.1//NONSGML v1.0//EN
CALSCALE:GREGORIAN
METHOD:PUBLISH
X-ORIGINAL-URL:https://allaboutquarks.de
X-WR-CALDESC:Events for QUARKS
REFRESH-INTERVAL;VALUE=DURATION:PT1H
X-Robots-Tag:noindex
X-PUBLISHED-TTL:PT1H
BEGIN:VTIMEZONE
TZID:UTC
BEGIN:STANDARD
TZOFFSETFROM:+0000
TZOFFSETTO:+0000
TZNAME:UTC
DTSTART:20240101T000000
END:STANDARD
END:VTIMEZONE
BEGIN:VEVENT
DTSTART;VALUE=DATE:20251121
DTEND;VALUE=DATE:20251122
DTSTAMP:20260420T034729
CREATED:20250725T140511Z
LAST-MODIFIED:20251021T091704Z
UID:4685-1763683200-1763769599@allaboutquarks.de
SUMMARY:TINCON 2025
DESCRIPTION:QUARKS is excited to be part of TINCON 2025 – inspiring young minds with the wonders of quantum science and future technologies.
URL:https://allaboutquarks.de/event/tincon-2025/
LOCATION:Dresden
CATEGORIES:Society
END:VEVENT
END:VCALENDAR