BEGIN:VCALENDAR
VERSION:2.0
PRODID:-//QUARKS - ECPv6.15.17.1//NONSGML v1.0//EN
CALSCALE:GREGORIAN
METHOD:PUBLISH
X-WR-CALNAME:QUARKS
X-ORIGINAL-URL:https://allaboutquarks.de
X-WR-CALDESC:Events for QUARKS
REFRESH-INTERVAL;VALUE=DURATION:PT1H
X-Robots-Tag:noindex
X-PUBLISHED-TTL:PT1H
BEGIN:VTIMEZONE
TZID:UTC
BEGIN:STANDARD
TZOFFSETFROM:+0000
TZOFFSETTO:+0000
TZNAME:UTC
DTSTART:20250101T000000
END:STANDARD
END:VTIMEZONE
BEGIN:VEVENT
DTSTART;VALUE=DATE:20260429
DTEND;VALUE=DATE:20260430
DTSTAMP:20260419T200357
CREATED:20260203T125858Z
LAST-MODIFIED:20260203T132931Z
UID:7392-1777420800-1777507199@allaboutquarks.de
SUMMARY:Kino im Kasten
DESCRIPTION:Kino im Kasten presents the science fiction thriller “Coherence”. After the screening\, join us for a short discussion examining which aspects of the film are grounded in real quantum physics and where science fiction begins. The Quarks project invites you to explore the fascinating intersection of cinema and science. \n 
URL:https://allaboutquarks.de/event/kino-im-kasten-quarks/
LOCATION:TU Dresden\, Dresden\, 01062\, Germany
CATEGORIES:Society
END:VEVENT
END:VCALENDAR