BEGIN:VCALENDAR
VERSION:2.0
PRODID:-//QUARKS - ECPv6.15.17.1//NONSGML v1.0//EN
CALSCALE:GREGORIAN
METHOD:PUBLISH
X-WR-CALNAME:QUARKS
X-ORIGINAL-URL:https://allaboutquarks.de
X-WR-CALDESC:Events for QUARKS
REFRESH-INTERVAL;VALUE=DURATION:PT1H
X-Robots-Tag:noindex
X-PUBLISHED-TTL:PT1H
BEGIN:VTIMEZONE
TZID:UTC
BEGIN:STANDARD
TZOFFSETFROM:+0000
TZOFFSETTO:+0000
TZNAME:UTC
DTSTART:20250101T000000
END:STANDARD
END:VTIMEZONE
BEGIN:VEVENT
DTSTART;VALUE=DATE:20260626
DTEND;VALUE=DATE:20260627
DTSTAMP:20260419T222542
CREATED:20251210T133643Z
LAST-MODIFIED:20251210T144048Z
UID:7220-1782432000-1782518399@allaboutquarks.de
SUMMARY:Science Night Dresden
DESCRIPTION:During Dresden’s Long Night of Science\, Dresden’s universities\, non-university research institutions\, and science-related companies open their doors\, laboratories\, lecture halls\, and archives to the public. Visitors can experience science and technology\, research and innovation\, art\, and culture up close through a variety of lectures\, experiments\, guided tours\, exhibitions\, and films.
URL:https://allaboutquarks.de/event/science-night-dresden-2026/
LOCATION:TU Dresden\, Dresden\, 01062\, Germany
CATEGORIES:Society
END:VEVENT
END:VCALENDAR