BEGIN:VCALENDAR
VERSION:2.0
PRODID:-//QUARKS - ECPv6.15.17.1//NONSGML v1.0//EN
CALSCALE:GREGORIAN
METHOD:PUBLISH
X-WR-CALNAME:QUARKS
X-ORIGINAL-URL:https://allaboutquarks.de
X-WR-CALDESC:Events for QUARKS
REFRESH-INTERVAL;VALUE=DURATION:PT1H
X-Robots-Tag:noindex
X-PUBLISHED-TTL:PT1H
BEGIN:VTIMEZONE
TZID:UTC
BEGIN:STANDARD
TZOFFSETFROM:+0000
TZOFFSETTO:+0000
TZNAME:UTC
DTSTART:20250101T000000
END:STANDARD
END:VTIMEZONE
BEGIN:VEVENT
DTSTART;TZID=UTC:20261126T163000
DTEND;TZID=UTC:20261126T180000
DTSTAMP:20260420T064958
CREATED:20260410T075505Z
LAST-MODIFIED:20260410T075542Z
UID:8042-1795710600-1795716000@allaboutquarks.de
SUMMARY:MINT Digital
DESCRIPTION:Discover your future in technology with MINT digital\, an online lecture series hosted by TU Dresden specifically for school students. \nQUARKS is excited to participate\, offering unique insights into the fascinating world of quantum physics and the diverse degree programs available at the university. This digital event allows you to explore academic paths from the comfort of home\, helping you understand how cutting-edge research translates into a rewarding career in science and engineering. Join us to ask questions\, meet experts\, and see how you can help shape the innovations of tomorrow through a MINT education.
URL:https://allaboutquarks.de/event/mint-digital/
LOCATION:Online
CATEGORIES:Society
END:VEVENT
END:VCALENDAR